BEGIN:VCALENDAR
PRODID:-//PUBBLE//agenda//NL
VERSION:2.0
METHOD:PUBLISH
BEGIN:VEVENT
DTSTART:20260512T173000Z
DTEND:20260512T183000Z
DTSTAMP:20260423T120219Z
UID:0490d3e0-4c32-44ca-a75b-76f31918698c
CREATED:20260423T120219Z
NAME:Voorjaarsconcert Sneeker Mannenkoor Edoza geandewei.nl
X-WR-CALNAME:Voorjaarsconcert Sneeker Mannenkoor Edoza
X-ALT-DESC;FMTTYPE=text/html:<a href='/agenda/2026/5/12/voorjaarsconcert-sneeker-mannenkoor-edoza-15242'>/agenda/2026/5/12/voorjaarsconcert-sneeker-mannenkoor-edoza-15242</a> || <p>Het Sneeker mannenkoor Edoza o.l.v. Jan Hibma verzorgt een inloopconcert in de Broerekerk in Bolsward, met medewerking van Sebastiaan Schippers, piano.&nbsp;</p><p>Van harte welkom. Toegang vrij, collecte bij de uitgang.&nbsp;</p>
DESCRIPTION:<a href='/agenda/2026/5/12/voorjaarsconcert-sneeker-mannenkoor-edoza-15242'>/agenda/2026/5/12/voorjaarsconcert-sneeker-mannenkoor-edoza-15242</a> || <p>Het Sneeker mannenkoor Edoza o.l.v. Jan Hibma verzorgt een inloopconcert in de Broerekerk in Bolsward, met medewerking van Sebastiaan Schippers, piano.&nbsp;</p><p>Van harte welkom. Toegang vrij, collecte bij de uitgang.&nbsp;</p>
LAST-MODIFIED:20260423T120219Z
LOCATION: Broerekerk | Broereplein 9 Bolsward
SEQUENCE:0
STATUS:CONFIRMED
SUMMARY:Voorjaarsconcert Sneeker Mannenkoor Edoza
TRANSP:OPAQUE
END:VEVENT
END:VCALENDAR
